BEGIN:VCALENDAR
VERSION:2.0
PRODID:-// - ECPv5.14.2.1//NONSGML v1.0//EN
CALSCALE:GREGORIAN
METHOD:PUBLISH
X-ORIGINAL-URL:https://alcaladesarrollo.ayto-alcaladehenares.es
X-WR-CALDESC:Eventos para 
REFRESH-INTERVAL;VALUE=DURATION:PT1H
X-Robots-Tag:noindex
X-PUBLISHED-TTL:PT1H
BEGIN:VTIMEZONE
TZID:Europe/Madrid
BEGIN:DAYLIGHT
TZOFFSETFROM:+0100
TZOFFSETTO:+0200
TZNAME:CEST
DTSTART:20240331T010000
END:DAYLIGHT
BEGIN:STANDARD
TZOFFSETFROM:+0200
TZOFFSETTO:+0100
TZNAME:CET
DTSTART:20241027T010000
END:STANDARD
END:VTIMEZONE
BEGIN:VEVENT
DTSTART;TZID=Europe/Madrid:20240514T173000
DTEND;TZID=Europe/Madrid:20240514T190000
DTSTAMP:20260425T194841
CREATED:20240424T124632Z
LAST-MODIFIED:20240425T133407Z
UID:18474-1715707800-1715713200@alcaladesarrollo.ayto-alcaladehenares.es
SUMMARY:Tu banco\, tu socio preferente: posibilidades de financiación
DESCRIPTION:Vuelven nuestras jornadas formativas para emprendedores. En esta ocasión se llevará a cabo una jornada sobre financiación\, se trata de una mesa redonda en la que participarán: Daniel García\, responsable de Startups y Scaleups de la entidad Banco Santander y la gestora comercial de la entidad Avalmadrid\, Elena Fernández. Como moderadora tendremos a Jéssica Luengo una de las técnicas integrantes del área de emprendedores de Alcalá Desarrollo y autora del blog ‘Ideas EIE’. \nLa jornada tendrá una duración aproximada de hora y media y se desarrollará siguiendo la siguiente estructura: \n\n17:30: Recepción de asistentes.\n17:35: Bienvenida.\n17:40: Mesa redonda.\n18:45 Turno de preguntas.\n19:00 Networking: Presentación e intercambio de tarjetas.\n\n¡Os Invitamos a que os unáis a esta experiencia de aprendizaje y crecimiento!
URL:https://alcaladesarrollo.ayto-alcaladehenares.es/evento/tu-banco-tu-socio-preferente-posibilidades-de-financiacion/
LOCATION:Espacio de Iniciativas Empresariales (EIE)\, Calle Blas Cabrera\, 23\, Alcalá de Henares\, Comunidad de Madrid\, 28806\, España
CATEGORIES:Emprendedores
ORGANIZER;CN="Alcal%C3%A1%20Desarrollo":MAILTO:servicio.empleo@ayto-alcaladehenares.es
END:VEVENT
BEGIN:VEVENT
DTSTART;TZID=Europe/Madrid:20240521T173000
DTEND;TZID=Europe/Madrid:20240521T190000
DTSTAMP:20260425T194841
CREATED:20240424T125555Z
LAST-MODIFIED:20240515T121537Z
UID:18476-1716312600-1716318000@alcaladesarrollo.ayto-alcaladehenares.es
SUMMARY:La app móvil como herramienta comercial: pasos a tener en cuenta
DESCRIPTION:Vuelven nuestras jornadas formativas para emprendedores. En esta ocasión se llevará a cabo una charla coloquio entre Samuel Sesmilo empresario de nuestra ciudad y CEO de la app recomienda.app\, que es un directorio colaborativo de profesionales locales y Gabriel Ramas CEO de la empresa Coometas que se crea como solución avanzada para digitalizar la ayuda alimentaria. Como moderadora tendremos a Jéssica Luengo una de las técnicas integrantes del área de emprendedores de Alcalá Desarrollo y autora del blor ‘Ideas EIE’ \nLa jornada tendrá una duración aproximada de hora y media y se desarrollará siguiendo la siguiente estructura: \n\n17:30 Recepción de asistentes.\n17:35 Bienvenida.\n17:40 Desarrollo de la charla coloquio.\n18:45 Turno de preguntas.\n19:00 Networking: Presentación e intercambio de tarjetas.\n\n¡Os Invitamos a que os unáis a esta experiencia de aprendizaje y crecimiento!
URL:https://alcaladesarrollo.ayto-alcaladehenares.es/evento/la-app-movil-como-herramienta-comercial-pasos-a-tener-en-cuenta/
LOCATION:Espacio de Iniciativas Empresariales (EIE)\, Calle Blas Cabrera\, 23\, Alcalá de Henares\, Comunidad de Madrid\, 28806\, España
CATEGORIES:Emprendedores
ATTACH;FMTTYPE=image/jpeg:https://alcaladesarrollo.ayto-alcaladehenares.es/wp-content/uploads/2024/04/21-MAYO-2024-1.jpg
ORGANIZER;CN="Alcal%C3%A1%20Desarrollo":MAILTO:servicio.empleo@ayto-alcaladehenares.es
END:VEVENT
END:VCALENDAR